BEGIN:VCALENDAR
VERSION:2.0
PRODID:-//https://www.stjohncondos.com///NONSGML kigkonsult.se iCalcreator 2.10.15//
METHOD:PUBLISH
BEGIN:VEVENT
UID:20260424T142246UTC-1896VnjBIw@https://www.stjohncondos.com/
DTSTAMP:20260424T142246Z
DESCRIPTION:Blg 41 or 42 Discounted for $3\,597 for 4 nights!\n&nbsp\; &nbs
 p\; &nbsp\;\n&nbsp\;{loadmoduleid 211}&nbsp\; https://www.stjohncondos.com
 /available-villa-rental-in-st-john-usvi/event/33-three-bedroom-virgin-gran
 d-pool-bldg-41-or-42-3-597-for-4-nights
DTSTART:20260627T160000Z
DTEND:20260701T100000Z
LOCATION:The Westin St John Resort Villas (1101-1511 Hummingbird Way\, Cruz
  Bay\, St. John Island\, 00830)
SUMMARY:Three Bedroom Virgin Grand Pool - Bldg 41 or 42 $3\,597/for 4 night
 s!
URL:https://www.stjohncondos.com/available-villa-rental-in-st-john-usvi/eve
 nt/33-three-bedroom-virgin-grand-pool-bldg-41-or-42-3-597-for-4-nights
END:VEVENT
END:VCALENDAR
